BEGIN:VCALENDAR
VERSION:2.0
PRODID:-//Plone.org//NONSGML plone.app.event//EN
X-WR-TIMEZONE:Brazil/East
BEGIN:VEVENT
SUMMARY: Visita Guiada - E.M. Augusto Pires - Três Córregos
DTSTART;TZID=Brazil/East;VALUE=DATE-TIME:20250515T130000
DTEND;TZID=Brazil/East;VALUE=DATE-TIME:20250515T150000
DTSTAMP;VALUE=DATE-TIME:20260423T194842Z
UID:d463861fe6914b13b7a712b6eae510dd@www.campolargo.pr.leg.br
CREATED;VALUE=DATE-TIME:20250425T135211Z
LAST-MODIFIED;VALUE=DATE-TIME:20250425T135223Z
LOCATION:CÂMARA MUNICIPAL DE CAMPO LARGO
URL:https://www.campolargo.pr.leg.br/institucional/eventos/visita-guiada-e
 -m-augusto-pires-tres-corregos
END:VEVENT
BEGIN:VTIMEZONE
TZID:Brazil/East
X-LIC-LOCATION:Brazil/East
BEGIN:STANDARD
DTSTART;VALUE=DATE-TIME:20250215T230000
TZNAME:BRT
TZOFFSETFROM:-0200
TZOFFSETTO:-0300
END:STANDARD
END:VTIMEZONE
END:VCALENDAR
