BEGIN:VCALENDAR
VERSION:2.0
PRODID:-//Plone.org//NONSGML plone.app.event//EN
X-WR-TIMEZONE:Brazil/East
BEGIN:VEVENT
SUMMARY:VISITA GUIADA - CIEE - 25 ALUNOS 
DTSTART;TZID=Brazil/East;VALUE=DATE-TIME:20250523T090000
DTEND;TZID=Brazil/East;VALUE=DATE-TIME:20250523T120000
DTSTAMP;VALUE=DATE-TIME:20260425T003626Z
UID:fda7ccc044704d688da3b439317d9180@www.campolargo.pr.leg.br
CREATED;VALUE=DATE-TIME:20250522T164742Z
LAST-MODIFIED;VALUE=DATE-TIME:20250522T164753Z
URL:https://www.campolargo.pr.leg.br/institucional/eventos/visita-guiada-c
 iee-25-alunos
END:VEVENT
BEGIN:VTIMEZONE
TZID:Brazil/East
X-LIC-LOCATION:Brazil/East
BEGIN:STANDARD
DTSTART;VALUE=DATE-TIME:20250215T230000
TZNAME:BRT
TZOFFSETFROM:-0200
TZOFFSETTO:-0300
END:STANDARD
END:VTIMEZONE
END:VCALENDAR
