BEGIN:VCALENDAR
VERSION:2.0
PRODID:-//Plone.org//NONSGML plone.app.event//EN
X-WR-TIMEZONE:Brazil/East
BEGIN:VEVENT
SUMMARY:VISITA GUIADA - 1º CENTENÁRIO 
DTSTART;TZID=Brazil/East;VALUE=DATE-TIME:20250325T083000
DTEND;TZID=Brazil/East;VALUE=DATE-TIME:20250325T103000
DTSTAMP;VALUE=DATE-TIME:20260422T231132Z
UID:65c294959ce74962aacf999309382fa1@www.campolargo.pr.leg.br
CREATED;VALUE=DATE-TIME:20250313T162645Z
DESCRIPTION:📅 Data: 25 de março de 2025\n⏰ Horário: Início às 08h
 30\n🏫 Colégio: 1º Centenário\n👥 Quantidade de alunos: 55\n
LAST-MODIFIED;VALUE=DATE-TIME:20250313T162701Z
URL:https://www.campolargo.pr.leg.br/institucional/eventos/visita-guiada-1
 o-centenario
END:VEVENT
BEGIN:VTIMEZONE
TZID:Brazil/East
X-LIC-LOCATION:Brazil/East
BEGIN:STANDARD
DTSTART;VALUE=DATE-TIME:20250215T230000
TZNAME:BRT
TZOFFSETFROM:-0200
TZOFFSETTO:-0300
END:STANDARD
END:VTIMEZONE
END:VCALENDAR
