BEGIN:VCALENDAR
VERSION:2.0
PRODID:-//Plone.org//NONSGML plone.app.event//EN
X-WR-TIMEZONE:Brazil/East
BEGIN:VEVENT
SUMMARY:Visita do Colégio Clotário Portugal 
DTSTART;VALUE=DATE:20231024
DTEND;VALUE=DATE:20231025
DTSTAMP;VALUE=DATE-TIME:20260422T221812Z
UID:e45de0d9d82f45a8aa798aabc7ccb338@www.campolargo.pr.leg.br
CREATED;VALUE=DATE-TIME:20231011T145727Z
LAST-MODIFIED;VALUE=DATE-TIME:20231011T145738Z
URL:https://www.campolargo.pr.leg.br/institucional/eventos/visita-do-coleg
 io-clotario-portugal
END:VEVENT
END:VCALENDAR
