BEGIN:VCALENDAR
VERSION:2.0
PRODID:-//Plone.org//NONSGML plone.app.event//EN
X-WR-TIMEZONE:Brazil/East
BEGIN:VEVENT
SUMMARY:Visita do Colégio Avance
DTSTART;TZID=Brazil/East;VALUE=DATE-TIME:20240403T100000
DTEND;TZID=Brazil/East;VALUE=DATE-TIME:20240403T110000
DTSTAMP;VALUE=DATE-TIME:20260422T145521Z
UID:c9d252b988a44c71ab141f654c1d1162@www.campolargo.pr.leg.br
CONTACT:3392-1717
CREATED;VALUE=DATE-TIME:20240401T121556Z
LAST-MODIFIED;VALUE=DATE-TIME:20240401T121605Z
LOCATION:Auditório Alberto Klemes - Câmara Municipal de Campo Largo
URL:https://www.campolargo.pr.leg.br/institucional/eventos/visita-do-coleg
 io-avance
END:VEVENT
BEGIN:VTIMEZONE
TZID:Brazil/East
X-LIC-LOCATION:Brazil/East
BEGIN:STANDARD
DTSTART;VALUE=DATE-TIME:20240217T230000
TZNAME:BRT
TZOFFSETFROM:-0200
TZOFFSETTO:-0300
END:STANDARD
END:VTIMEZONE
END:VCALENDAR
