BEGIN:VCALENDAR
VERSION:2.0
PRODID:-//Plone.org//NONSGML plone.app.event//EN
X-WR-TIMEZONE:Brazil/East
BEGIN:VEVENT
SUMMARY:Sessão Plenária 
DTSTART;TZID=Brazil/East;VALUE=DATE-TIME:20230904T150000
DTEND;TZID=Brazil/East;VALUE=DATE-TIME:20230904T160000
DTSTAMP;VALUE=DATE-TIME:20260422T072751Z
UID:e47bedc57ada45f3ad8207c22a1ede18@www.campolargo.pr.leg.br
CONTACT:3392-1717
CREATED;VALUE=DATE-TIME:20230829T183720Z
LAST-MODIFIED;VALUE=DATE-TIME:20230829T183734Z
LOCATION:Auditório Alberto Klemes - Câmara Municipal de Campo Largo
URL:https://www.campolargo.pr.leg.br/institucional/eventos/sessao-plenaria
 -12
END:VEVENT
BEGIN:VTIMEZONE
TZID:Brazil/East
X-LIC-LOCATION:Brazil/East
BEGIN:STANDARD
DTSTART;VALUE=DATE-TIME:20230225T230000
TZNAME:BRT
TZOFFSETFROM:-0200
TZOFFSETTO:-0300
END:STANDARD
END:VTIMEZONE
END:VCALENDAR
