BEGIN:VCALENDAR
VERSION:2.0
PRODID:-//Plone.org//NONSGML plone.app.event//EN
X-WR-TIMEZONE:Brazil/East
BEGIN:VEVENT
SUMMARY:Sessão Ordinária
DTSTART;TZID=Brazil/East;VALUE=DATE-TIME:20180326T150000
DTEND;TZID=Brazil/East;VALUE=DATE-TIME:20180326T170000
DTSTAMP;VALUE=DATE-TIME:20260424T141402Z
UID:7ac1a0c382cd467991cf2d3872d6584e@www.campolargo.pr.leg.br
CREATED;VALUE=DATE-TIME:20180228T132901Z
DESCRIPTION:Sessão Legislativa que acontece semanalmente onde\, são vota
 das as matérias de interesse do município.
LAST-MODIFIED;VALUE=DATE-TIME:20180228T133249Z
LOCATION:Câmara Municipal de Campo Largo Rua Subestação de Enologia 200
 8 Vila Bancária Campo Largo.
URL:https://www.campolargo.pr.leg.br/institucional/eventos/sessao-ordinari
 a-3
END:VEVENT
BEGIN:VTIMEZONE
TZID:Brazil/East
X-LIC-LOCATION:Brazil/East
BEGIN:STANDARD
DTSTART;VALUE=DATE-TIME:20180217T230000
TZNAME:BRT
TZOFFSETFROM:-0200
TZOFFSETTO:-0300
END:STANDARD
END:VTIMEZONE
END:VCALENDAR
