BEGIN:VCALENDAR
VERSION:2.0
PRODID:-//Plone.org//NONSGML plone.app.event//EN
X-WR-TIMEZONE:Brazil/East
BEGIN:VEVENT
SUMMARY:Sessão Ordinária
DTSTART;TZID=Brazil/East;VALUE=DATE-TIME:20180604T150000
DTEND;TZID=Brazil/East;VALUE=DATE-TIME:20180604T170000
DTSTAMP;VALUE=DATE-TIME:20260424T215804Z
UID:c400631f56d245ac90ffd47356691e2f@www.campolargo.pr.leg.br
CREATED;VALUE=DATE-TIME:20180606T133251Z
LAST-MODIFIED;VALUE=DATE-TIME:20180606T133331Z
URL:https://www.campolargo.pr.leg.br/institucional/eventos/sessao-ordinari
 a-13
END:VEVENT
BEGIN:VTIMEZONE
TZID:Brazil/East
X-LIC-LOCATION:Brazil/East
BEGIN:STANDARD
DTSTART;VALUE=DATE-TIME:20180217T230000
TZNAME:BRT
TZOFFSETFROM:-0200
TZOFFSETTO:-0300
END:STANDARD
END:VTIMEZONE
END:VCALENDAR
