BEGIN:VCALENDAR
VERSION:2.0
PRODID:-//Plone.org//NONSGML plone.app.event//EN
X-WR-TIMEZONE:Brazil/East
BEGIN:VEVENT
SUMMARY:Sessão Ordinária
DTSTART;VALUE=DATE:20180813
DTEND;VALUE=DATE:20180814
DTSTAMP;VALUE=DATE-TIME:20260425T001324Z
UID:456002417618421f9c81d4d3762c43d8@www.campolargo.pr.leg.br
CREATED;VALUE=DATE-TIME:20180801T180502Z
LAST-MODIFIED;VALUE=DATE-TIME:20180801T180517Z
URL:https://www.campolargo.pr.leg.br/institucional/eventos/sessao-ordinari
 a-12
END:VEVENT
END:VCALENDAR
