BEGIN:VCALENDAR
VERSION:2.0
PRODID:-//Plone.org//NONSGML plone.app.event//EN
X-WR-TIMEZONE:Brazil/East
BEGIN:VEVENT
SUMMARY:SESSÃO DE SIMULAÇÃO DE INSTALAÇÃO - VEREADOR MIRIM 
DTSTART;TZID=Brazil/East;VALUE=DATE-TIME:20241108T160000
DTEND;TZID=Brazil/East;VALUE=DATE-TIME:20241108T170000
DTSTAMP;VALUE=DATE-TIME:20260422T221723Z
UID:c9f073b200cb4ba0a363343ac13b414a@www.campolargo.pr.leg.br
CONTACT:3392-1717
CREATED;VALUE=DATE-TIME:20241015T135635Z
LAST-MODIFIED;VALUE=DATE-TIME:20241015T135650Z
LOCATION:COLÉGIO 1º CENTENÁRIO 
URL:https://www.campolargo.pr.leg.br/institucional/eventos/sessao-de-simul
 acao-de-instalacao-vereador-mirim
END:VEVENT
BEGIN:VTIMEZONE
TZID:Brazil/East
X-LIC-LOCATION:Brazil/East
BEGIN:DAYLIGHT
DTSTART;VALUE=DATE-TIME:20241020T010000
TZNAME:BRST
TZOFFSETFROM:-0300
TZOFFSETTO:-0200
END:DAYLIGHT
END:VTIMEZONE
END:VCALENDAR
