BEGIN:VCALENDAR
VERSION:2.0
PRODID:-//Plone.org//NONSGML plone.app.event//EN
X-WR-TIMEZONE:Brazil/East
BEGIN:VEVENT
SUMMARY:Prestação de contas do Executivo
DTSTART;TZID=Brazil/East;VALUE=DATE-TIME:20240229T090000
DTEND;TZID=Brazil/East;VALUE=DATE-TIME:20240229T100000
DTSTAMP;VALUE=DATE-TIME:20260423T045012Z
UID:0a92b1f479034f67835a01d9662aee96@www.campolargo.pr.leg.br
CONTACT:3392-1717
CREATED;VALUE=DATE-TIME:20240215T122546Z
LAST-MODIFIED;VALUE=DATE-TIME:20240215T122555Z
LOCATION:Auditório Alberto Klemes - Câmara Municipal de Campo Largo
URL:https://www.campolargo.pr.leg.br/institucional/eventos/prestacao-de-co
 ntas-do-executivo
END:VEVENT
BEGIN:VTIMEZONE
TZID:Brazil/East
X-LIC-LOCATION:Brazil/East
BEGIN:STANDARD
DTSTART;VALUE=DATE-TIME:20240217T230000
TZNAME:BRT
TZOFFSETFROM:-0200
TZOFFSETTO:-0300
END:STANDARD
END:VTIMEZONE
END:VCALENDAR
