BEGIN:VCALENDAR
VERSION:2.0
PRODID:-//Plone.org//NONSGML plone.app.event//EN
X-WR-TIMEZONE:Brazil/East
BEGIN:VEVENT
SUMMARY:Palestra
DTSTART;TZID=Brazil/East;VALUE=DATE-TIME:20180327T190000
DTEND;TZID=Brazil/East;VALUE=DATE-TIME:20180327T220000
DTSTAMP;VALUE=DATE-TIME:20260424T152650Z
UID:5eba3e48af104fb1a6a790ab0ecf6adf@www.campolargo.pr.leg.br
CREATED;VALUE=DATE-TIME:20180327T130112Z
DESCRIPTION:"Como é bom ter minha família" - Projeto Principios  da Fami
 lia Feliz
LAST-MODIFIED;VALUE=DATE-TIME:20180327T130218Z
URL:https://www.campolargo.pr.leg.br/institucional/eventos/palestra
END:VEVENT
BEGIN:VTIMEZONE
TZID:Brazil/East
X-LIC-LOCATION:Brazil/East
BEGIN:STANDARD
DTSTART;VALUE=DATE-TIME:20180217T230000
TZNAME:BRT
TZOFFSETFROM:-0200
TZOFFSETTO:-0300
END:STANDARD
END:VTIMEZONE
END:VCALENDAR
