BEGIN:VCALENDAR
VERSION:2.0
PRODID:-//Plone.org//NONSGML plone.app.event//EN
X-WR-TIMEZONE:Brazil/East
BEGIN:VEVENT
SUMMARY:Formatura da Guarda Municipal
DTSTART;VALUE=DATE:20231130
DTEND;VALUE=DATE:20231201
DTSTAMP;VALUE=DATE-TIME:20260424T100057Z
UID:8e55683751f24205aa991056ace6bf3a@www.campolargo.pr.leg.br
CONTACT:3392-1717
CREATED;VALUE=DATE-TIME:20231101T123030Z
LAST-MODIFIED;VALUE=DATE-TIME:20231101T123043Z
LOCATION:Auditório Alberto Klemes - Câmara Municipal de Campo Largo
URL:https://www.campolargo.pr.leg.br/institucional/eventos/formatura-da-gu
 arda-municipal
END:VEVENT
END:VCALENDAR
