BEGIN:VCALENDAR
VERSION:2.0
PRODID:-//Plone.org//NONSGML plone.app.event//EN
X-WR-TIMEZONE:Brazil/East
BEGIN:VEVENT
SUMMARY:Dia 29/07/24 - 17h - segunda-feira - Convenção do PSDB e CIDADAN
 IA 
DTSTART;VALUE=DATE:20240729
DTEND;VALUE=DATE:20240730
DTSTAMP;VALUE=DATE-TIME:20260422T010742Z
UID:b9e02fba146348e296e7bfc691fb8474@www.campolargo.pr.leg.br
CONTACT:3392-1717
CREATED;VALUE=DATE-TIME:20240729T150046Z
LAST-MODIFIED;VALUE=DATE-TIME:20240729T150054Z
LOCATION:Auditório Alberto Klemes - Câmara Municipal de Campo Largo
URL:https://www.campolargo.pr.leg.br/institucional/eventos/dia-29-07-24-17
 h-segunda-feira-convencao-do-psdb-e-cidadania
END:VEVENT
END:VCALENDAR
