BEGIN:VCALENDAR
VERSION:2.0
PRODID:-//Plone.org//NONSGML plone.app.event//EN
X-WR-TIMEZONE:Brazil/East
BEGIN:VEVENT
SUMMARY:Curso - Plenário
DTSTART;VALUE=DATE:20231206
DTEND;VALUE=DATE:20231207
DTSTAMP;VALUE=DATE-TIME:20260422T132822Z
UID:d9529ba55a3346af8a031e8437c2a3f6@www.campolargo.pr.leg.br
CREATED;VALUE=DATE-TIME:20231201T143444Z
LAST-MODIFIED;VALUE=DATE-TIME:20231201T143516Z
URL:https://www.campolargo.pr.leg.br/institucional/eventos/curso-plenario
END:VEVENT
END:VCALENDAR
