BEGIN:VCALENDAR
VERSION:2.0
PRODID:-//Plone.org//NONSGML plone.app.event//EN
X-WR-TIMEZONE:Brazil/East
BEGIN:VEVENT
SUMMARY:Curso - Plenário
DTSTART;VALUE=DATE:20231208
DTEND;VALUE=DATE:20231209
DTSTAMP;VALUE=DATE-TIME:20260422T153712Z
UID:d93606e932ed484aba4d593158d08650@www.campolargo.pr.leg.br
CREATED;VALUE=DATE-TIME:20231201T143506Z
LAST-MODIFIED;VALUE=DATE-TIME:20231201T143546Z
URL:https://www.campolargo.pr.leg.br/institucional/eventos/curso-plenario-
 2
END:VEVENT
END:VCALENDAR
