BEGIN:VCALENDAR
VERSION:2.0
PRODID:-//Plone.org//NONSGML plone.app.event//EN
X-WR-TIMEZONE:Brazil/East
BEGIN:VEVENT
SUMMARY:Curso comunicação
DTSTART;VALUE=DATE:20240627
DTEND;VALUE=DATE:20240628
DTSTAMP;VALUE=DATE-TIME:20260422T162347Z
UID:b7da300d03f242098a1d4ee778706ebf@www.campolargo.pr.leg.br
CREATED;VALUE=DATE-TIME:20240618T133148Z
LAST-MODIFIED;VALUE=DATE-TIME:20240618T133158Z
URL:https://www.campolargo.pr.leg.br/institucional/eventos/curso-comunicac
 ao-2
END:VEVENT
END:VCALENDAR
