BEGIN:VCALENDAR
VERSION:2.0
PRODID:-//Plone.org//NONSGML plone.app.event//EN
X-WR-TIMEZONE:Brazil/East
BEGIN:VEVENT
SUMMARY:Curso comunicação
DTSTART;VALUE=DATE:20240626
DTEND;VALUE=DATE:20240627
DTSTAMP;VALUE=DATE-TIME:20260422T210556Z
UID:b9d99ae41c2946f98f8d7a78aa965613@www.campolargo.pr.leg.br
CREATED;VALUE=DATE-TIME:20240618T133116Z
LAST-MODIFIED;VALUE=DATE-TIME:20240618T133127Z
URL:https://www.campolargo.pr.leg.br/institucional/eventos/curso-comunicac
 ao-1
END:VEVENT
END:VCALENDAR
