BEGIN:VCALENDAR
VERSION:2.0
PRODID:-//Plone.org//NONSGML plone.app.event//EN
X-WR-TIMEZONE:Brazil/East
BEGIN:VEVENT
SUMMARY:Sessão Ordinária
DTSTART;TZID=Brazil/East;VALUE=DATE-TIME:20180409T150000
DTEND;TZID=Brazil/East;VALUE=DATE-TIME:20180409T160000
DTSTAMP;VALUE=DATE-TIME:20260424T101037Z
UID:80fd2f1c5d0b46458d6946aed541c9b4@www.campolargo.pr.leg.br
CREATED;VALUE=DATE-TIME:20180417T121506Z
LAST-MODIFIED;VALUE=DATE-TIME:20180417T121512Z
URL:https://www.campolargo.pr.leg.br/institucional/eventos/copy_of_sessao-
 ordinaria-5
END:VEVENT
BEGIN:VTIMEZONE
TZID:Brazil/East
X-LIC-LOCATION:Brazil/East
BEGIN:STANDARD
DTSTART;VALUE=DATE-TIME:20180217T230000
TZNAME:BRT
TZOFFSETFROM:-0200
TZOFFSETTO:-0300
END:STANDARD
END:VTIMEZONE
END:VCALENDAR
