BEGIN:VCALENDAR
VERSION:2.0
PRODID:-//Plone.org//NONSGML plone.app.event//EN
X-WR-TIMEZONE:Brazil/East
BEGIN:VEVENT
SUMMARY:Capacitação para os conselheiros tutelares
DTSTART;VALUE=DATE:20231107
DTEND;VALUE=DATE:20231108
DTSTAMP;VALUE=DATE-TIME:20260423T201205Z
UID:ee7877ac04b5402e8045136c974e79a2@www.campolargo.pr.leg.br
CONTACT:3392-1717
CREATED;VALUE=DATE-TIME:20230929T142114Z
LAST-MODIFIED;VALUE=DATE-TIME:20230929T142223Z
LOCATION:Auditório Alberto Klemes - Câmara Municipal de Campo Largo
URL:https://www.campolargo.pr.leg.br/institucional/eventos/capacitacao-par
 a-os-conselheiros-tutelares
END:VEVENT
END:VCALENDAR
