BEGIN:VCALENDAR
VERSION:2.0
PRODID:-//Plone.org//NONSGML plone.app.event//EN
X-WR-TIMEZONE:Brazil/East
BEGIN:VEVENT
SUMMARY:Capacitação para os conselheiros tutelares
DTSTART;VALUE=DATE:20231108
DTEND;VALUE=DATE:20231109
DTSTAMP;VALUE=DATE-TIME:20260422T221738Z
UID:8cf9e150f34e41cf91e9924b04414051@www.campolargo.pr.leg.br
CONTACT:3392-1717
CREATED;VALUE=DATE-TIME:20230929T142138Z
LAST-MODIFIED;VALUE=DATE-TIME:20230929T142256Z
LOCATION:Auditório Alberto Klemes - Câmara Municipal de Campo Largo
URL:https://www.campolargo.pr.leg.br/institucional/eventos/capacitacao-par
 a-os-conselheiros-tutelares-1
END:VEVENT
END:VCALENDAR
