BEGIN:VCALENDAR
VERSION:2.0
PRODID:-//Plone.org//NONSGML plone.app.event//EN
X-WR-TIMEZONE:Brazil/East
BEGIN:VEVENT
SUMMARY:AUDIÊNCIA PÚBLICA NA CMCL
DTSTART;TZID=Brazil/East;VALUE=DATE-TIME:20250227T090000
DTEND;TZID=Brazil/East;VALUE=DATE-TIME:20250227T100000
DTSTAMP;VALUE=DATE-TIME:20260423T121124Z
UID:dade282ab3264c30bab90b0a6e84b4ae@www.campolargo.pr.leg.br
CREATED;VALUE=DATE-TIME:20250213T192427Z
DESCRIPTION:27/02/2025 – 9h: Audiência Pública do 3º Quadrimestre da 
 Saúde\, com a prestação de contas das ações e investimentos realizado
 s na área.
LAST-MODIFIED;VALUE=DATE-TIME:20250213T192439Z
URL:https://www.campolargo.pr.leg.br/institucional/eventos/audiencia-publi
 ca-na-cmcl
END:VEVENT
BEGIN:VTIMEZONE
TZID:Brazil/East
X-LIC-LOCATION:Brazil/East
BEGIN:STANDARD
DTSTART;VALUE=DATE-TIME:20250215T230000
TZNAME:BRT
TZOFFSETFROM:-0200
TZOFFSETTO:-0300
END:STANDARD
END:VTIMEZONE
END:VCALENDAR
