BEGIN:VCALENDAR
VERSION:2.0
PRODID:-//Plone.org//NONSGML plone.app.event//EN
X-WR-TIMEZONE:Brazil/East
BEGIN:VEVENT
SUMMARY:AUDIÊNCIA PÚBLICA NA CMCL
DTSTART;TZID=Brazil/East;VALUE=DATE-TIME:20250228T090000
DTEND;TZID=Brazil/East;VALUE=DATE-TIME:20250228T100000
DTSTAMP;VALUE=DATE-TIME:20260422T004129Z
UID:01bc88075851413189e788ffe9ad76a3@www.campolargo.pr.leg.br
CREATED;VALUE=DATE-TIME:20250213T192518Z
DESCRIPTION:28/02/2025 – 9h: Audiência Pública do 3º Quadrimestre do 
 Poder Executivo\, Poder Legislativo e do Instituto de Aposentadorias e Pen
 sões de Campo Largo (Fapen) onde serão apresentados os resultados financ
 eiros e orçamentários de cada entidade.
LAST-MODIFIED;VALUE=DATE-TIME:20250213T192529Z
URL:https://www.campolargo.pr.leg.br/institucional/eventos/audiencia-publi
 ca-na-cmcl-1
END:VEVENT
BEGIN:VTIMEZONE
TZID:Brazil/East
X-LIC-LOCATION:Brazil/East
BEGIN:STANDARD
DTSTART;VALUE=DATE-TIME:20250215T230000
TZNAME:BRT
TZOFFSETFROM:-0200
TZOFFSETTO:-0300
END:STANDARD
END:VTIMEZONE
END:VCALENDAR
