BEGIN:VCALENDAR
VERSION:2.0
PRODID:-//Plone.org//NONSGML plone.app.event//EN
X-WR-TIMEZONE:Brazil/East
BEGIN:VEVENT
SUMMARY:Audiência pública com os candidatos ao Conselho Tutelar
DTSTART;TZID=Brazil/East;VALUE=DATE-TIME:20230927T190000
DTEND;TZID=Brazil/East;VALUE=DATE-TIME:20230927T210000
DTSTAMP;VALUE=DATE-TIME:20260422T221803Z
UID:0da6b5ca9d604ea5bf79f38bd4f147b3@www.campolargo.pr.leg.br
CONTACT:3392-1717
CREATED;VALUE=DATE-TIME:20230822T122759Z
LAST-MODIFIED;VALUE=DATE-TIME:20230928T140627Z
LOCATION:Auditório Alberto Klemes - Câmara Municipal de Campo Largo
URL:https://www.campolargo.pr.leg.br/institucional/eventos/audiencia-publi
 ca-com-os-candidatos-ao-conselho-tutelar
END:VEVENT
BEGIN:VTIMEZONE
TZID:Brazil/East
X-LIC-LOCATION:Brazil/East
BEGIN:STANDARD
DTSTART;VALUE=DATE-TIME:20230225T230000
TZNAME:BRT
TZOFFSETFROM:-0200
TZOFFSETTO:-0300
END:STANDARD
END:VTIMEZONE
END:VCALENDAR
